BEGIN:VCALENDAR
VERSION:2.0
PRODID:icalendar-ruby
CALSCALE:GREGORIAN
METHOD:PUBLISH
BEGIN:VEVENT
DTSTAMP:20260425T113649Z
UID:19cc83ae-02a3-4107-8398-0e542560ed1f
DTSTART;VALUE=DATE:20160408
DTEND;VALUE=DATE:20160408
DESCRIPTION:Sand Springs BMX
LOCATION:2600 S River City Park Rd  Sand Springs OK 74063 USA
SUMMARY:Local Race Single
URL:/site/bmx_races/306192
END:VEVENT
END:VCALENDAR
