BEGIN:VCALENDAR
VERSION:2.0
PRODID:icalendar-ruby
CALSCALE:GREGORIAN
METHOD:PUBLISH
BEGIN:VEVENT
DTSTAMP:20260425T215217Z
UID:29854bfa-d2cd-4ec1-ad84-85926d33f318
DTSTART;VALUE=DATE:20160722
DTEND;VALUE=DATE:20160722
DESCRIPTION:Boomtown BMX
LOCATION:17760 Shasta Dam Blvd  Shasta Lake CA 96019 USA
SUMMARY:Local Race Single
URL:/site/bmx_races/306027
END:VEVENT
END:VCALENDAR
