BEGIN:VCALENDAR
VERSION:2.0
PRODID:icalendar-ruby
CALSCALE:GREGORIAN
METHOD:PUBLISH
BEGIN:VEVENT
DTSTAMP:20260425T204105Z
UID:15688c07-0bf4-4a12-831a-f2425937f254
DTSTART;VALUE=DATE:20160103
DTEND;VALUE=DATE:20160103
DESCRIPTION:Oak Creek BMX
LOCATION:648 Riverside Ave  Roseville CA 95678 USA
SUMMARY:Standard Single
URL:/site/bmx_races/305889
END:VEVENT
END:VCALENDAR
