BEGIN:VCALENDAR
VERSION:2.0
PRODID:icalendar-ruby
CALSCALE:GREGORIAN
METHOD:PUBLISH
BEGIN:VEVENT
DTSTAMP:20260424T233958Z
UID:4ec1f22b-da62-4702-adc0-aba965b977de
DTSTART;VALUE=DATE:20160218
DTEND;VALUE=DATE:20160218
DESCRIPTION:Ancient City BMX
LOCATION:3005 Alan Nease Rd  St Augustine FL 32033 USA
SUMMARY:Local Race Single
URL:/site/bmx_races/305681
END:VEVENT
END:VCALENDAR
