BEGIN:VCALENDAR
VERSION:2.0
PRODID:icalendar-ruby
CALSCALE:GREGORIAN
METHOD:PUBLISH
BEGIN:VEVENT
DTSTAMP:20260425T215323Z
UID:9468878a-d20b-421a-8788-e54d3a0ecf0a
DTSTART;VALUE=DATE:20160616
DTEND;VALUE=DATE:20160616
DESCRIPTION:Electric City BMX
LOCATION:1200 21st Ave So  Great Falls MT 59405 USA
SUMMARY:Local Race Single
URL:/site/bmx_races/305637
END:VEVENT
END:VCALENDAR
