BEGIN:VCALENDAR
VERSION:2.0
PRODID:icalendar-ruby
CALSCALE:GREGORIAN
METHOD:PUBLISH
BEGIN:VEVENT
DTSTAMP:20260425T115231Z
UID:2073ccef-a073-46cf-b5bd-c2ef4719ce55
DTSTART;VALUE=DATE:20161117
DTEND;VALUE=DATE:20161117
DESCRIPTION:Raytown BMX
LOCATION:12605 Frost Rd  Kansas City MO 64138 USA
SUMMARY:Local Race Single
URL:/site/bmx_races/305184
END:VEVENT
END:VCALENDAR
