BEGIN:VCALENDAR
VERSION:2.0
PRODID:icalendar-ruby
CALSCALE:GREGORIAN
METHOD:PUBLISH
BEGIN:VEVENT
DTSTAMP:20260424T202323Z
UID:ee8c87bc-5927-4c7f-a9d9-901a63c0f00e
DTSTART;VALUE=DATE:20161016
DTEND;VALUE=DATE:20161016
DESCRIPTION:Star City BMX
LOCATION:101 Charleston St  Lincoln NE 68508 USA
SUMMARY:Local Race Single
URL:/site/bmx_races/304580
END:VEVENT
END:VCALENDAR
