BEGIN:VCALENDAR
VERSION:2.0
PRODID:icalendar-ruby
CALSCALE:GREGORIAN
METHOD:PUBLISH
BEGIN:VEVENT
DTSTAMP:20260425T215445Z
UID:98a5aff9-3dd2-47ec-adaa-b4338fd8a946
DTSTART;VALUE=DATE:20160522
DTEND;VALUE=DATE:20160522
DESCRIPTION:Langley BMX
LOCATION:4375 206 St Langley  Langley BC V3A 3B1 CAN
SUMMARY:Local Race Single
URL:/site/bmx_races/303102
END:VEVENT
END:VCALENDAR
