BEGIN:VCALENDAR
VERSION:2.0
PRODID:icalendar-ruby
CALSCALE:GREGORIAN
METHOD:PUBLISH
BEGIN:VEVENT
DTSTAMP:20260424T115219Z
UID:bb04dcbb-85d5-458e-9dd7-d2c7a5e15e48
DTSTART;VALUE=DATE:20160130
DTEND;VALUE=DATE:20160130
DESCRIPTION:Cargill Park BMX
LOCATION:2800 Cargill Drive  Shreveport LA 71108 USA
SUMMARY:Local Race Single
URL:/site/bmx_races/302991
END:VEVENT
END:VCALENDAR
