BEGIN:VCALENDAR
VERSION:2.0
PRODID:icalendar-ruby
CALSCALE:GREGORIAN
METHOD:PUBLISH
BEGIN:VEVENT
DTSTAMP:20260424T133541Z
UID:a4f9bfce-55bb-48b4-9d36-4ba550e37fc6
DTSTART;VALUE=DATE:20160821
DTEND;VALUE=DATE:20160821
DESCRIPTION:South Park BMX
LOCATION:800 East Park Drive  Bethel Park PA 15102 USA
SUMMARY:State Final Triple
URL:/site/bmx_races/302606
END:VEVENT
END:VCALENDAR
