BEGIN:VCALENDAR
VERSION:2.0
PRODID:icalendar-ruby
CALSCALE:GREGORIAN
METHOD:PUBLISH
BEGIN:VEVENT
DTSTAMP:20260424T141547Z
UID:69bec2de-61b7-46ab-9f14-30c1e1b2a345
DTSTART;VALUE=DATE:20160605
DTEND;VALUE=DATE:20160605
DESCRIPTION:Waukegan BMX
LOCATION:2785 W Yorkhouse Rd  Waukegan IL 60085 USA
SUMMARY:State Race Double
URL:/site/bmx_races/302282
END:VEVENT
END:VCALENDAR
