BEGIN:VCALENDAR
VERSION:2.0
PRODID:icalendar-ruby
CALSCALE:GREGORIAN
METHOD:PUBLISH
BEGIN:VEVENT
DTSTAMP:20260424T215353Z
UID:1f4ea155-a46d-43a1-8460-31cf1bea6db9
DTSTART;VALUE=DATE:20160619
DTEND;VALUE=DATE:20160619
DESCRIPTION:Bonzai BMX
LOCATION:7201 Arlene Laman Dr  N. Little Rock AR 72118 USA
SUMMARY:Olympic Day Single
URL:/site/bmx_races/301986
END:VEVENT
END:VCALENDAR
