BEGIN:VCALENDAR
VERSION:2.0
PRODID:icalendar-ruby
CALSCALE:GREGORIAN
METHOD:PUBLISH
BEGIN:VEVENT
DTSTAMP:20260424T190153Z
UID:6aaf0da7-1ad1-4a83-9777-1585cf27de5c
DTSTART;VALUE=DATE:20160209
DTEND;VALUE=DATE:20160209
DESCRIPTION:Sea City BMX
LOCATION:  Corpus Christi TX 78418 USA
SUMMARY:Local Race Single
URL:/site/bmx_races/301269
END:VEVENT
END:VCALENDAR
