BEGIN:VCALENDAR
VERSION:2.0
PRODID:icalendar-ruby
CALSCALE:GREGORIAN
METHOD:PUBLISH
BEGIN:VEVENT
DTSTAMP:20260424T152500Z
UID:9eab1631-1923-42c2-a46b-5328af5a361f
DTSTART;VALUE=DATE:20160528
DTEND;VALUE=DATE:20160528
DESCRIPTION:Waterford Oaks BMX
LOCATION:1702 Scott Lake Rd  Waterford MI 48328 USA
SUMMARY:Local Race Single
URL:/site/bmx_races/300871
END:VEVENT
END:VCALENDAR
