BEGIN:VCALENDAR
VERSION:2.0
PRODID:icalendar-ruby
CALSCALE:GREGORIAN
METHOD:PUBLISH
BEGIN:VEVENT
DTSTAMP:20260424T190117Z
UID:deb59010-17c9-40f5-b011-71c108b0b9ad
DTSTART;VALUE=DATE:20160619
DTEND;VALUE=DATE:20160619
DESCRIPTION:East Moline BMX
LOCATION:1930 Avenue Of The Cities  East Moline IL 61241 USA
SUMMARY:Warnicke Double
URL:/site/bmx_races/300457
END:VEVENT
END:VCALENDAR
