BEGIN:VCALENDAR
VERSION:2.0
PRODID:icalendar-ruby
CALSCALE:GREGORIAN
METHOD:PUBLISH
BEGIN:VEVENT
DTSTAMP:20260424T190222Z
UID:a2675cbd-0ea2-4622-8a82-a4971c5b64ed
DTSTART;VALUE=DATE:20160110
DTEND;VALUE=DATE:20160110
DESCRIPTION:Silver Dollar BMX
LOCATION:2352 Dr. Martin Luther King Jr. Parkway  Chico CA 95928 USA
SUMMARY:Local Race Single
URL:/site/bmx_races/300245
END:VEVENT
END:VCALENDAR
