BEGIN:VCALENDAR
VERSION:2.0
PRODID:icalendar-ruby
CALSCALE:GREGORIAN
METHOD:PUBLISH
BEGIN:VEVENT
DTSTAMP:20260425T142036Z
UID:3521b325-e7cd-407e-90da-a38a34221ff8
DTSTART;VALUE=DATE:20160213
DTEND;VALUE=DATE:20160213
DESCRIPTION:Dayton Indoor BMX
LOCATION:16 Edmund St  Dayton OH 45404-1668 USA
SUMMARY:Earned Double
URL:/site/bmx_races/300223
END:VEVENT
END:VCALENDAR
