BEGIN:VCALENDAR
VERSION:2.0
PRODID:icalendar-ruby
CALSCALE:GREGORIAN
METHOD:PUBLISH
BEGIN:VEVENT
DTSTAMP:20260424T234907Z
UID:d61299cb-69eb-4687-b35e-22558348a649
DTSTART;VALUE=DATE:20160619
DTEND;VALUE=DATE:20160619
DESCRIPTION:Richfield Park BMX
LOCATION:6550 N Irish Road  Davison MI 48423 USA
SUMMARY:Local Race Single
URL:/site/bmx_races/300101
END:VEVENT
END:VCALENDAR
