BEGIN:VCALENDAR
VERSION:2.0
PRODID:icalendar-ruby
CALSCALE:GREGORIAN
METHOD:PUBLISH
BEGIN:VEVENT
DTSTAMP:20260424T163945Z
UID:99811492-1e0f-4753-bca5-f7ec5b32c017
DTSTART;VALUE=DATE:20160823
DTEND;VALUE=DATE:20160823
DESCRIPTION:First State BMX
LOCATION:1045 N Walnut St  Milford DE 19963 USA
SUMMARY:Local Race Single
URL:/site/bmx_races/300045
END:VEVENT
END:VCALENDAR
