BEGIN:VCALENDAR
VERSION:2.0
PRODID:icalendar-ruby
CALSCALE:GREGORIAN
METHOD:PUBLISH
BEGIN:VEVENT
DTSTAMP:20260424T154547Z
UID:7ec9c6a3-5b2a-46dc-a7d7-e0441a944d3f
DTSTART;VALUE=DATE:20160306
DTEND;VALUE=DATE:20160306
DESCRIPTION:Rum River BMX
LOCATION:Isanti Parkway Northwest  Isanti MN 55040 USA
SUMMARY:Local Race Single
URL:/site/bmx_races/299873
END:VEVENT
END:VCALENDAR
