BEGIN:VCALENDAR
VERSION:2.0
PRODID:icalendar-ruby
CALSCALE:GREGORIAN
METHOD:PUBLISH
BEGIN:VEVENT
DTSTAMP:20260424T125319Z
UID:23c688b5-00a8-4a3c-94bd-ea5c8e0fd840
DTSTART;VALUE=DATE:20160428
DTEND;VALUE=DATE:20160428
DESCRIPTION:River City BMX
LOCATION:251 Ne Agness  Grants Pass OR 97526 USA
SUMMARY:Local Race Single
URL:/site/bmx_races/299213
END:VEVENT
END:VCALENDAR
