BEGIN:VCALENDAR
VERSION:2.0
PRODID:icalendar-ruby
CALSCALE:GREGORIAN
METHOD:PUBLISH
BEGIN:VEVENT
DTSTAMP:20260424T125323Z
UID:bdce1c05-9d08-4b91-8e47-c69646237b93
DTSTART;VALUE=DATE:20160421
DTEND;VALUE=DATE:20160421
DESCRIPTION:River City BMX
LOCATION:251 Ne Agness  Grants Pass OR 97526 USA
SUMMARY:Local Race Single
URL:/site/bmx_races/299210
END:VEVENT
END:VCALENDAR
