BEGIN:VCALENDAR
VERSION:2.0
PRODID:icalendar-ruby
CALSCALE:GREGORIAN
METHOD:PUBLISH
BEGIN:VEVENT
DTSTAMP:20260425T215455Z
UID:09e49409-16a9-4f05-bac9-792e88e481ba
DTSTART;VALUE=DATE:20160107
DTEND;VALUE=DATE:20160107
DESCRIPTION:River City BMX
LOCATION:251 Ne Agness  Grants Pass OR 97526 USA
SUMMARY:Local Race Single
URL:/site/bmx_races/299165
END:VEVENT
END:VCALENDAR
