BEGIN:VCALENDAR
VERSION:2.0
PRODID:icalendar-ruby
CALSCALE:GREGORIAN
METHOD:PUBLISH
BEGIN:VEVENT
DTSTAMP:20260426T032335Z
UID:fbbf91fd-2110-4d40-8eb4-83f76358b008
DTSTART;VALUE=DATE:20161118
DTEND;VALUE=DATE:20161118
DESCRIPTION:Tucson BMX
LOCATION:9245 E Irvington  Tucson AZ 85730 USA
SUMMARY:Local Race Single
URL:/site/bmx_races/298944
END:VEVENT
END:VCALENDAR
