BEGIN:VCALENDAR
VERSION:2.0
PRODID:icalendar-ruby
CALSCALE:GREGORIAN
METHOD:PUBLISH
BEGIN:VEVENT
DTSTAMP:20260425T231627Z
UID:9192f155-ec48-447a-8070-1e03d5156ed7
DTSTART;VALUE=DATE:20160614
DTEND;VALUE=DATE:20160614
DESCRIPTION:Greater Victoria BMX
LOCATION:1767 Island Hwy  Victoria BC V9B 1J1 CAN
SUMMARY:Local Race Single
URL:/site/bmx_races/297553
END:VEVENT
END:VCALENDAR
