BEGIN:VCALENDAR
VERSION:2.0
PRODID:icalendar-ruby
CALSCALE:GREGORIAN
METHOD:PUBLISH
BEGIN:VEVENT
DTSTAMP:20260424T185803Z
UID:30832209-23ee-4c59-a403-c23a8776a348
DTSTART;VALUE=DATE:20160506
DTEND;VALUE=DATE:20160506
DESCRIPTION:Pearland BMX
LOCATION:5657 Morning Dove Ln  Alvin TX 77511 USA
SUMMARY:Local Race Single
URL:/site/bmx_races/297263
END:VEVENT
END:VCALENDAR
