BEGIN:VCALENDAR
VERSION:2.0
PRODID:icalendar-ruby
CALSCALE:GREGORIAN
METHOD:PUBLISH
BEGIN:VEVENT
DTSTAMP:20260425T173926Z
UID:1a61adb3-2c25-42c6-a3d5-dcea68a43a76
DTSTART;VALUE=DATE:20160327
DTEND;VALUE=DATE:20160327
DESCRIPTION:Cowtown BMX
LOCATION:447 Haltom Rd  Ft. Worth TX 76117 USA
SUMMARY:Local Race Single
URL:/site/bmx_races/296627
END:VEVENT
END:VCALENDAR
