BEGIN:VCALENDAR
VERSION:2.0
PRODID:icalendar-ruby
CALSCALE:GREGORIAN
METHOD:PUBLISH
BEGIN:VEVENT
DTSTAMP:20260424T172143Z
UID:855eedcc-3d87-47bc-8f15-bef77d703ea7
DTSTART;VALUE=DATE:20160710
DTEND;VALUE=DATE:20160710
DESCRIPTION:Wee-Chi-Tah BMX
LOCATION:404 Burkburnett Rd   WICHITA FALLS TX 76306 USA
SUMMARY:State Race Double
URL:/site/bmx_races/296050
END:VEVENT
END:VCALENDAR
