BEGIN:VCALENDAR
VERSION:2.0
PRODID:icalendar-ruby
CALSCALE:GREGORIAN
METHOD:PUBLISH
BEGIN:VEVENT
DTSTAMP:20260424T181713Z
UID:d7f026a8-1aac-47cd-aeca-0f50d1c007e6
DTSTART;VALUE=DATE:20160724
DTEND;VALUE=DATE:20160724
DESCRIPTION:Gallatin Valley BMX
LOCATION: 620 N 5th Ave  Bozeman MT 59715 USA
SUMMARY:Gold Cup Qualifier Triple
URL:/site/bmx_races/296045
END:VEVENT
END:VCALENDAR
