BEGIN:VCALENDAR
VERSION:2.0
PRODID:icalendar-ruby
CALSCALE:GREGORIAN
METHOD:PUBLISH
BEGIN:VEVENT
DTSTAMP:20260424T201232Z
UID:7dcc5f55-0e9d-4f09-8e60-fa238c05cc26
DTSTART;VALUE=DATE:20160909
DTEND;VALUE=DATE:20160909
DESCRIPTION:Bonzai BMX
LOCATION:7201 Arlene Laman Dr  N. Little Rock AR 72118 USA
SUMMARY:Local Race Single
URL:/site/bmx_races/295360
END:VEVENT
END:VCALENDAR
