BEGIN:VCALENDAR
VERSION:2.0
PRODID:icalendar-ruby
CALSCALE:GREGORIAN
METHOD:PUBLISH
BEGIN:VEVENT
DTSTAMP:20260424T233740Z
UID:3d273dfc-da3c-4493-835f-ef88f6d6a5af
DTSTART;VALUE=DATE:20161204
DTEND;VALUE=DATE:20161204
DESCRIPTION:Peninsula Indoor BMX
LOCATION:5867 Dogwood Road Se  Port Orchard WA 98367 USA
SUMMARY:Local Race Single
URL:/site/bmx_races/295168
END:VEVENT
END:VCALENDAR
