BEGIN:VCALENDAR
VERSION:2.0
PRODID:icalendar-ruby
CALSCALE:GREGORIAN
METHOD:PUBLISH
BEGIN:VEVENT
DTSTAMP:20260425T150740Z
UID:ab297872-b72d-4da7-8c7d-3e04377f4d5f
DTSTART;VALUE=DATE:20160225
DTEND;VALUE=DATE:20160225
DESCRIPTION:Ed Fountain Park BMX Raceway
LOCATION:1400 N Decatur Blvd  Las Vegas NV 89108 USA
SUMMARY:Local Race Single
URL:/site/bmx_races/294876
END:VEVENT
END:VCALENDAR
