BEGIN:VCALENDAR
VERSION:2.0
PRODID:icalendar-ruby
CALSCALE:GREGORIAN
METHOD:PUBLISH
BEGIN:VEVENT
DTSTAMP:20260425T214817Z
UID:d5bd0968-d06c-4f86-9d99-d9f761c8c50a
DTSTART;VALUE=DATE:20160719
DTEND;VALUE=DATE:20160719
DESCRIPTION:Cobb County BMX
LOCATION:3820 Macedonia Rd  Powder Springs GA 30127 USA
SUMMARY:Local Race Single
URL:/site/bmx_races/293989
END:VEVENT
END:VCALENDAR
