BEGIN:VCALENDAR
VERSION:2.0
PRODID:icalendar-ruby
CALSCALE:GREGORIAN
METHOD:PUBLISH
BEGIN:VEVENT
DTSTAMP:20260424T212548Z
UID:0cc9dcef-9353-4ef7-99b0-0359fe468a3f
DTSTART;VALUE=DATE:20161014
DTEND;VALUE=DATE:20161014
DESCRIPTION:Desoto BMX
LOCATION:Grimes Park 500 E. Centre Park Blvd Desoto TX 75115 USA
SUMMARY:Local Race Single
URL:/site/bmx_races/293738
END:VEVENT
END:VCALENDAR
