BEGIN:VCALENDAR
VERSION:2.0
PRODID:icalendar-ruby
CALSCALE:GREGORIAN
METHOD:PUBLISH
BEGIN:VEVENT
DTSTAMP:20260424T091916Z
UID:d29e19a7-66b4-4e2a-bdde-72cdd2dd735b
DTSTART;VALUE=DATE:20160305
DTEND;VALUE=DATE:20160305
DESCRIPTION:Desoto BMX
LOCATION:Grimes Park 500 E. Centre Park Blvd Desoto TX 75115 USA
SUMMARY:Local Race Single
URL:/site/bmx_races/293611
END:VEVENT
END:VCALENDAR
