BEGIN:VCALENDAR
VERSION:2.0
PRODID:icalendar-ruby
CALSCALE:GREGORIAN
METHOD:PUBLISH
BEGIN:VEVENT
DTSTAMP:20260424T194706Z
UID:9b1e533d-e195-4299-bac8-cfa305961059
DTSTART;VALUE=DATE:20160625
DTEND;VALUE=DATE:20160625
DESCRIPTION:Waterford Oaks BMX
LOCATION:1702 Scott Lake Rd  Waterford MI 48328 USA
SUMMARY:Olympic Day Single
URL:/site/bmx_races/293551
END:VEVENT
END:VCALENDAR
