BEGIN:VCALENDAR
VERSION:2.0
PRODID:icalendar-ruby
CALSCALE:GREGORIAN
METHOD:PUBLISH
BEGIN:VEVENT
DTSTAMP:20260424T215452Z
UID:cad66a29-02dc-4fdf-9c8a-e8f45581f0c3
DTSTART;VALUE=DATE:20160625
DTEND;VALUE=DATE:20160625
DESCRIPTION:South Park BMX
LOCATION:800 East Park Drive  Bethel Park PA 15102 USA
SUMMARY:Race for Life Double
URL:/site/bmx_races/293288
END:VEVENT
END:VCALENDAR
