BEGIN:VCALENDAR
VERSION:2.0
PRODID:icalendar-ruby
CALSCALE:GREGORIAN
METHOD:PUBLISH
BEGIN:VEVENT
DTSTAMP:20260425T010519Z
UID:66b9f889-8453-4559-9a3b-27499a167967
DTSTART;VALUE=DATE:20160901
DTEND;VALUE=DATE:20160901
DESCRIPTION:Central Wisconsin BMX
LOCATION:2220 E Riverview Expy\,  Wisconsin Rapids WI 54494 USA
SUMMARY:Local Race Single
URL:/site/bmx_races/292995
END:VEVENT
END:VCALENDAR
