BEGIN:VCALENDAR
VERSION:2.0
PRODID:icalendar-ruby
CALSCALE:GREGORIAN
METHOD:PUBLISH
BEGIN:VEVENT
DTSTAMP:20260425T035236Z
UID:821bb764-cc7a-4e04-aace-aa8f5813e1db
DTSTART;VALUE=DATE:20160605
DTEND;VALUE=DATE:20160605
DESCRIPTION:Central Wisconsin BMX
LOCATION:2220 E Riverview Expy\,  Wisconsin Rapids WI 54494 USA
SUMMARY:Local Race Single
URL:/site/bmx_races/292961
END:VEVENT
END:VCALENDAR
