BEGIN:VCALENDAR
VERSION:2.0
PRODID:icalendar-ruby
CALSCALE:GREGORIAN
METHOD:PUBLISH
BEGIN:VEVENT
DTSTAMP:20260424T235347Z
UID:c3d7e891-cdbb-4104-b437-7614d8a0f934
DTSTART;VALUE=DATE:20161102
DTEND;VALUE=DATE:20161102
DESCRIPTION:Interstate BMX
LOCATION:2600 Fairgrounds Blvd  Kingman AZ 86401 USA
SUMMARY:Local Race Single
URL:/site/bmx_races/292742
END:VEVENT
END:VCALENDAR
