BEGIN:VCALENDAR
VERSION:2.0
PRODID:icalendar-ruby
CALSCALE:GREGORIAN
METHOD:PUBLISH
BEGIN:VEVENT
DTSTAMP:20260425T011534Z
UID:ec85826e-c06b-4b97-addd-31b99bce2a92
DTSTART;VALUE=DATE:20161026
DTEND;VALUE=DATE:20161026
DESCRIPTION:Interstate BMX
LOCATION:2600 Fairgrounds Blvd  Kingman AZ 86401 USA
SUMMARY:Local Race Single
URL:/site/bmx_races/292739
END:VEVENT
END:VCALENDAR
