BEGIN:VCALENDAR
VERSION:2.0
PRODID:icalendar-ruby
CALSCALE:GREGORIAN
METHOD:PUBLISH
BEGIN:VEVENT
DTSTAMP:20260425T144139Z
UID:776279d1-2c1f-45db-afd1-a6fe089fd35e
DTSTART;VALUE=DATE:20160410
DTEND;VALUE=DATE:20160410
DESCRIPTION:Richmond BMX
LOCATION:4401 Hobbs Lane   Next To Church Richmond VA 23231 USA
SUMMARY:Local Race Single
URL:/site/bmx_races/292495
END:VEVENT
END:VCALENDAR
