BEGIN:VCALENDAR
VERSION:2.0
PRODID:icalendar-ruby
CALSCALE:GREGORIAN
METHOD:PUBLISH
BEGIN:VEVENT
DTSTAMP:20260424T063232Z
UID:77b65041-84bb-4dda-8da9-8e00674abfc3
DTSTART;VALUE=DATE:20160501
DTEND;VALUE=DATE:20160501
DESCRIPTION:Cape Coral BMX
LOCATION:1410 Sw 6th Place  Cape Coral FL 33991 USA
SUMMARY:State Race Double / SSA Cup Qualifier #10
URL:/site/bmx_races/292042
END:VEVENT
END:VCALENDAR
