BEGIN:VCALENDAR
VERSION:2.0
PRODID:icalendar-ruby
CALSCALE:GREGORIAN
METHOD:PUBLISH
BEGIN:VEVENT
DTSTAMP:20260424T143851Z
UID:57757c7a-617d-4acb-a1e9-12b828bdab98
DTSTART;VALUE=DATE:20160515
DTEND;VALUE=DATE:20160515
DESCRIPTION:Cobb County BMX
LOCATION:3820 Macedonia Rd  Powder Springs GA 30127 USA
SUMMARY:State Race Double
URL:/site/bmx_races/292028
END:VEVENT
END:VCALENDAR
