BEGIN:VCALENDAR
VERSION:2.0
PRODID:icalendar-ruby
CALSCALE:GREGORIAN
METHOD:PUBLISH
BEGIN:VEVENT
DTSTAMP:20260424T233656Z
UID:2da90aad-f26f-412f-9a44-e0cf6baf1dd0
DTSTART;VALUE=DATE:20160611
DTEND;VALUE=DATE:20160611
DESCRIPTION:Razor City BMX
LOCATION:200 Pumphouse Ln  Gillette WY 82716 USA
SUMMARY:Gold Cup Qualifier Triple
URL:/site/bmx_races/292017
END:VEVENT
END:VCALENDAR
