BEGIN:VCALENDAR
VERSION:2.0
PRODID:icalendar-ruby
CALSCALE:GREGORIAN
METHOD:PUBLISH
BEGIN:VEVENT
DTSTAMP:20260424T212544Z
UID:a51c9af1-8bf8-4e85-8ed9-69ca8ccfcaa0
DTSTART;VALUE=DATE:20160727
DTEND;VALUE=DATE:20160727
DESCRIPTION:South Park BMX
LOCATION:800 East Park Drive  Bethel Park PA 15102 USA
SUMMARY:Local Race Single
URL:/site/bmx_races/291938
END:VEVENT
END:VCALENDAR
