BEGIN:VCALENDAR
VERSION:2.0
PRODID:icalendar-ruby
CALSCALE:GREGORIAN
METHOD:PUBLISH
BEGIN:VEVENT
DTSTAMP:20260424T092602Z
UID:ff77b895-0f50-44fc-a9f7-f498c66172a8
DTSTART;VALUE=DATE:20160815
DTEND;VALUE=DATE:20160815
DESCRIPTION:Bellflower BMX
LOCATION:9030 Somerset Blvd  Bellflower CA 90706 USA
SUMMARY:Local Race Single
URL:/site/bmx_races/291793
END:VEVENT
END:VCALENDAR
