BEGIN:VCALENDAR
VERSION:2.0
PRODID:icalendar-ruby
CALSCALE:GREGORIAN
METHOD:PUBLISH
BEGIN:VEVENT
DTSTAMP:20260425T200618Z
UID:1e6f55e1-50b4-4f7a-a4ec-7b114eb9ce8d
DTSTART;VALUE=DATE:20160509
DTEND;VALUE=DATE:20160509
DESCRIPTION:Bellflower BMX
LOCATION:9030 Somerset Blvd  Bellflower CA 90706 USA
SUMMARY:Local Race Single
URL:/site/bmx_races/291765
END:VEVENT
END:VCALENDAR
