BEGIN:VCALENDAR
VERSION:2.0
PRODID:icalendar-ruby
CALSCALE:GREGORIAN
METHOD:PUBLISH
BEGIN:VEVENT
DTSTAMP:20260424T105742Z
UID:e4f942d5-5804-4851-9a3b-896dfbcd0064
DTSTART;VALUE=DATE:20160125
DTEND;VALUE=DATE:20160125
DESCRIPTION:Bellflower BMX
LOCATION:9030 Somerset Blvd  Bellflower CA 90706 USA
SUMMARY:Local Race Single
URL:/site/bmx_races/291735
END:VEVENT
END:VCALENDAR
