BEGIN:VCALENDAR
VERSION:2.0
PRODID:icalendar-ruby
CALSCALE:GREGORIAN
METHOD:PUBLISH
BEGIN:VEVENT
DTSTAMP:20260425T025603Z
UID:6a959218-1ade-41de-bca6-7ef2c10c22fd
DTSTART;VALUE=DATE:20160122
DTEND;VALUE=DATE:20160122
DESCRIPTION:Colorado River BMX
LOCATION:2230 Highland Dr  Bullhead City AZ 86442 USA
SUMMARY:Local Race Single
URL:/site/bmx_races/291464
END:VEVENT
END:VCALENDAR
